BEGIN:VCALENDAR
VERSION:2.0
PRODID:-//pretalx//cpa.cryptorave.org//cryptorave-2026//talk//YUNYGX
BEGIN:VTIMEZONE
TZID:-03
BEGIN:STANDARD
DTSTART:20000227T010000
RRULE:FREQ=YEARLY;BYDAY=4SU;BYMONTH=2;UNTIL=20000227T030000Z
TZNAME:-03
TZOFFSETFROM:-0200
TZOFFSETTO:-0300
END:STANDARD
BEGIN:STANDARD
DTSTART:20010218T010000
RRULE:FREQ=YEARLY;BYDAY=3SU;BYMONTH=2;UNTIL=20060219T030000Z
TZNAME:-03
TZOFFSETFROM:-0200
TZOFFSETTO:-0300
END:STANDARD
BEGIN:STANDARD
DTSTART:20070225T010000
RRULE:FREQ=YEARLY;BYDAY=4SU;BYMONTH=2;UNTIL=20070225T030000Z
TZNAME:-03
TZOFFSETFROM:-0200
TZOFFSETTO:-0300
END:STANDARD
BEGIN:STANDARD
DTSTART:20080217T010000
RRULE:FREQ=YEARLY;BYDAY=3SU;BYMONTH=2;UNTIL=20110220T030000Z
TZNAME:-03
TZOFFSETFROM:-0200
TZOFFSETTO:-0300
END:STANDARD
BEGIN:STANDARD
DTSTART:20120226T010000
RRULE:FREQ=YEARLY;BYDAY=4SU;BYMONTH=2;UNTIL=20120226T030000Z
TZNAME:-03
TZOFFSETFROM:-0200
TZOFFSETTO:-0300
END:STANDARD
BEGIN:STANDARD
DTSTART:20130217T010000
RRULE:FREQ=YEARLY;BYDAY=3SU;BYMONTH=2;UNTIL=20140216T030000Z
TZNAME:-03
TZOFFSETFROM:-0200
TZOFFSETTO:-0300
END:STANDARD
BEGIN:STANDARD
DTSTART:20150222T010000
RRULE:FREQ=YEARLY;BYDAY=4SU;BYMONTH=2;UNTIL=20150222T030000Z
TZNAME:-03
TZOFFSETFROM:-0200
TZOFFSETTO:-0300
END:STANDARD
BEGIN:STANDARD
DTSTART:20160221T010000
RRULE:FREQ=YEARLY;BYDAY=3SU;BYMONTH=2
TZNAME:-03
TZOFFSETFROM:-0200
TZOFFSETTO:-0300
END:STANDARD
BEGIN:DAYLIGHT
DTSTART:20001008T010000
RRULE:FREQ=YEARLY;BYDAY=2SU;BYMONTH=10;UNTIL=20011014T040000Z
TZNAME:-02
TZOFFSETFROM:-0300
TZOFFSETTO:-0200
END:DAYLIGHT
BEGIN:DAYLIGHT
DTSTART:20021103T010000
RRULE:FREQ=YEARLY;BYDAY=1SU;BYMONTH=11;UNTIL=20021103T040000Z
TZNAME:-02
TZOFFSETFROM:-0300
TZOFFSETTO:-0200
END:DAYLIGHT
BEGIN:DAYLIGHT
DTSTART:20031019T010000
RRULE:FREQ=YEARLY;BYDAY=3SU;BYMONTH=10;UNTIL=20031019T040000Z
TZNAME:-02
TZOFFSETFROM:-0300
TZOFFSETTO:-0200
END:DAYLIGHT
BEGIN:DAYLIGHT
DTSTART:20041102T010000
RRULE:FREQ=YEARLY;BYDAY=1TU;BYMONTH=11;UNTIL=20041102T040000Z
TZNAME:-02
TZOFFSETFROM:-0300
TZOFFSETTO:-0200
END:DAYLIGHT
BEGIN:DAYLIGHT
DTSTART:20051016T010000
RRULE:FREQ=YEARLY;BYDAY=3SU;BYMONTH=10;UNTIL=20051016T040000Z
TZNAME:-02
TZOFFSETFROM:-0300
TZOFFSETTO:-0200
END:DAYLIGHT
BEGIN:DAYLIGHT
DTSTART:20061105T010000
RRULE:FREQ=YEARLY;BYDAY=1SU;BYMONTH=11;UNTIL=20061105T040000Z
TZNAME:-02
TZOFFSETFROM:-0300
TZOFFSETTO:-0200
END:DAYLIGHT
BEGIN:DAYLIGHT
DTSTART:20071014T010000
RRULE:FREQ=YEARLY;BYDAY=2SU;BYMONTH=10;UNTIL=20071014T040000Z
TZNAME:-02
TZOFFSETFROM:-0300
TZOFFSETTO:-0200
END:DAYLIGHT
BEGIN:DAYLIGHT
DTSTART:20081019T010000
RRULE:FREQ=YEARLY;BYDAY=3SU;BYMONTH=10;UNTIL=20171015T040000Z
TZNAME:-02
TZOFFSETFROM:-0300
TZOFFSETTO:-0200
END:DAYLIGHT
BEGIN:DAYLIGHT
DTSTART:20181104T010000
RRULE:FREQ=YEARLY;BYDAY=1SU;BYMONTH=11;UNTIL=20181104T040000Z
TZNAME:-02
TZOFFSETFROM:-0300
TZOFFSETTO:-0200
END:DAYLIGHT
END:VTIMEZONE
BEGIN:VEVENT
UID:pretalx-cryptorave-2026-YUNYGX@cpa.cryptorave.org
DTSTART;TZID=-03:20260509T150000
DTEND;TZID=-03:20260509T155000
DESCRIPTION:Em um cenário de vigilância constante e fragmentação da red
 e\, a soberania digital exige que o usuário controle as camadas de hardwa
 re e software. Esta apresentação demonstra a construção de um gateway 
 de privacidade portátil utilizando a Orange Pi Zero 3 (4GB). O foco é a 
 criação de um nó de rede resiliente que resolve três pilares fundament
 ais: comunicação\, navegação e blindagem de metadados. Demonstraremos 
 como utilizar o Briar Headless e Relays Nostr privados (Strfry) para garan
 tir mensagens incensuráveis\, a implementação de túneis I2P/Tor para n
 avegação anônima e a configuração de DNS over HTTPS (DoH) com Unbound
  para impedir o rastreamento por provedores. É uma prova de conceito de q
 ue infraestruturas robustas de defesa podem ser acessíveis\, portáteis e
  totalmente sob controle físico do proprietário.
DTSTAMP:20260423T075121Z
LOCATION:Aaron Swartz (Sala no 1º andar da Hemeroteca)
SUMMARY:Infraestrutura de Bolso: Construindo um Gateway Soberano para Comun
 icação e Navegação Incensurável - Fabio Gonçalves (Maverick)
URL:https://2025.cryptorave.org/cryptorave-2026/talk/YUNYGX/
END:VEVENT
END:VCALENDAR
