BEGIN:VCALENDAR
VERSION:2.0
PRODID:-//pretalx//cpa.cryptorave.org//cryptorave-2026//talk//MCV8L7
BEGIN:VTIMEZONE
TZID:-03
BEGIN:STANDARD
DTSTART:20000227T010000
RRULE:FREQ=YEARLY;BYDAY=4SU;BYMONTH=2;UNTIL=20000227T030000Z
TZNAME:-03
TZOFFSETFROM:-0200
TZOFFSETTO:-0300
END:STANDARD
BEGIN:STANDARD
DTSTART:20010218T010000
RRULE:FREQ=YEARLY;BYDAY=3SU;BYMONTH=2;UNTIL=20060219T030000Z
TZNAME:-03
TZOFFSETFROM:-0200
TZOFFSETTO:-0300
END:STANDARD
BEGIN:STANDARD
DTSTART:20070225T010000
RRULE:FREQ=YEARLY;BYDAY=4SU;BYMONTH=2;UNTIL=20070225T030000Z
TZNAME:-03
TZOFFSETFROM:-0200
TZOFFSETTO:-0300
END:STANDARD
BEGIN:STANDARD
DTSTART:20080217T010000
RRULE:FREQ=YEARLY;BYDAY=3SU;BYMONTH=2;UNTIL=20110220T030000Z
TZNAME:-03
TZOFFSETFROM:-0200
TZOFFSETTO:-0300
END:STANDARD
BEGIN:STANDARD
DTSTART:20120226T010000
RRULE:FREQ=YEARLY;BYDAY=4SU;BYMONTH=2;UNTIL=20120226T030000Z
TZNAME:-03
TZOFFSETFROM:-0200
TZOFFSETTO:-0300
END:STANDARD
BEGIN:STANDARD
DTSTART:20130217T010000
RRULE:FREQ=YEARLY;BYDAY=3SU;BYMONTH=2;UNTIL=20140216T030000Z
TZNAME:-03
TZOFFSETFROM:-0200
TZOFFSETTO:-0300
END:STANDARD
BEGIN:STANDARD
DTSTART:20150222T010000
RRULE:FREQ=YEARLY;BYDAY=4SU;BYMONTH=2;UNTIL=20150222T030000Z
TZNAME:-03
TZOFFSETFROM:-0200
TZOFFSETTO:-0300
END:STANDARD
BEGIN:STANDARD
DTSTART:20160221T010000
RRULE:FREQ=YEARLY;BYDAY=3SU;BYMONTH=2
TZNAME:-03
TZOFFSETFROM:-0200
TZOFFSETTO:-0300
END:STANDARD
BEGIN:DAYLIGHT
DTSTART:20001008T010000
RRULE:FREQ=YEARLY;BYDAY=2SU;BYMONTH=10;UNTIL=20011014T040000Z
TZNAME:-02
TZOFFSETFROM:-0300
TZOFFSETTO:-0200
END:DAYLIGHT
BEGIN:DAYLIGHT
DTSTART:20021103T010000
RRULE:FREQ=YEARLY;BYDAY=1SU;BYMONTH=11;UNTIL=20021103T040000Z
TZNAME:-02
TZOFFSETFROM:-0300
TZOFFSETTO:-0200
END:DAYLIGHT
BEGIN:DAYLIGHT
DTSTART:20031019T010000
RRULE:FREQ=YEARLY;BYDAY=3SU;BYMONTH=10;UNTIL=20031019T040000Z
TZNAME:-02
TZOFFSETFROM:-0300
TZOFFSETTO:-0200
END:DAYLIGHT
BEGIN:DAYLIGHT
DTSTART:20041102T010000
RRULE:FREQ=YEARLY;BYDAY=1TU;BYMONTH=11;UNTIL=20041102T040000Z
TZNAME:-02
TZOFFSETFROM:-0300
TZOFFSETTO:-0200
END:DAYLIGHT
BEGIN:DAYLIGHT
DTSTART:20051016T010000
RRULE:FREQ=YEARLY;BYDAY=3SU;BYMONTH=10;UNTIL=20051016T040000Z
TZNAME:-02
TZOFFSETFROM:-0300
TZOFFSETTO:-0200
END:DAYLIGHT
BEGIN:DAYLIGHT
DTSTART:20061105T010000
RRULE:FREQ=YEARLY;BYDAY=1SU;BYMONTH=11;UNTIL=20061105T040000Z
TZNAME:-02
TZOFFSETFROM:-0300
TZOFFSETTO:-0200
END:DAYLIGHT
BEGIN:DAYLIGHT
DTSTART:20071014T010000
RRULE:FREQ=YEARLY;BYDAY=2SU;BYMONTH=10;UNTIL=20071014T040000Z
TZNAME:-02
TZOFFSETFROM:-0300
TZOFFSETTO:-0200
END:DAYLIGHT
BEGIN:DAYLIGHT
DTSTART:20081019T010000
RRULE:FREQ=YEARLY;BYDAY=3SU;BYMONTH=10;UNTIL=20171015T040000Z
TZNAME:-02
TZOFFSETFROM:-0300
TZOFFSETTO:-0200
END:DAYLIGHT
BEGIN:DAYLIGHT
DTSTART:20181104T010000
RRULE:FREQ=YEARLY;BYDAY=1SU;BYMONTH=11;UNTIL=20181104T040000Z
TZNAME:-02
TZOFFSETFROM:-0300
TZOFFSETTO:-0200
END:DAYLIGHT
END:VTIMEZONE
BEGIN:VEVENT
UID:pretalx-cryptorave-2026-MCV8L7@cpa.cryptorave.org
DTSTART;TZID=-03:20260509T160000
DTEND;TZID=-03:20260509T165000
DESCRIPTION:Neste livro sobre máquinas aprendizes e humanos ata-refados\, 
 a autora dedica-se ao tema do desenvolvimento das forças produtivas na no
 va indústria da inteligência artificial\, problematizando a profecia aut
 orrealizável e a retórica emocional segundo as quais suas inovações ma
 is recentes eliminariam todo e/ou qualquer trabalho vivo. Como revela a an
 álise do processo de trabalho nesta in-dústria\, baseada em grandes mode
 los de linguagem natural que fazem uso extensivo de dados tratados via pla
 taformas de micro-tarefas\, o "capital-informação" tende a um duplo movi
 mento (contraditório e combinado) de subsunção real do trabalho digital
  ou informacional tanto em sua forma predominantemente criativa (i.e.\, al
 eatória)\, quanto em sua forma predominantemente repetitiva (redundante).
  Afinal\, a produção de componentes lógicos (software) nesta indústria
  depende tanto do trabalho vivo criativo e bem remunerado de quem concebe\
 , nos centros geográficos do capitalismo\, os extensos conjuntos de dados
  tratados e os grandes modelos de linguagem natural da inteligência artif
 icial\, quanto do trabalho vivo repetitivo e mal remunerado de quem\, das 
 periferias geográficas deste sistema econômico\, faz a coleta\, a classi
 ficação\, o armazenamento\, a recuperação e a disseminação destes da
 dos.
DTSTAMP:20260423T075122Z
LOCATION:Chelsea Manning (Auditório)
SUMMARY:Máquinas aprendizes\; humanos atarefados. Inteliência artificial 
 e trabalho alienado no "capital informação" - Nahema Falleiros
URL:https://2025.cryptorave.org/cryptorave-2026/talk/MCV8L7/
END:VEVENT
END:VCALENDAR
