BEGIN:VCALENDAR
VERSION:2.0
PRODID:-//pretalx//cpa.cryptorave.org//cryptorave-2026//talk//EA333W
BEGIN:VTIMEZONE
TZID:-03
BEGIN:STANDARD
DTSTART:20000227T010000
RRULE:FREQ=YEARLY;BYDAY=4SU;BYMONTH=2;UNTIL=20000227T030000Z
TZNAME:-03
TZOFFSETFROM:-0200
TZOFFSETTO:-0300
END:STANDARD
BEGIN:STANDARD
DTSTART:20010218T010000
RRULE:FREQ=YEARLY;BYDAY=3SU;BYMONTH=2;UNTIL=20060219T030000Z
TZNAME:-03
TZOFFSETFROM:-0200
TZOFFSETTO:-0300
END:STANDARD
BEGIN:STANDARD
DTSTART:20070225T010000
RRULE:FREQ=YEARLY;BYDAY=4SU;BYMONTH=2;UNTIL=20070225T030000Z
TZNAME:-03
TZOFFSETFROM:-0200
TZOFFSETTO:-0300
END:STANDARD
BEGIN:STANDARD
DTSTART:20080217T010000
RRULE:FREQ=YEARLY;BYDAY=3SU;BYMONTH=2;UNTIL=20110220T030000Z
TZNAME:-03
TZOFFSETFROM:-0200
TZOFFSETTO:-0300
END:STANDARD
BEGIN:STANDARD
DTSTART:20120226T010000
RRULE:FREQ=YEARLY;BYDAY=4SU;BYMONTH=2;UNTIL=20120226T030000Z
TZNAME:-03
TZOFFSETFROM:-0200
TZOFFSETTO:-0300
END:STANDARD
BEGIN:STANDARD
DTSTART:20130217T010000
RRULE:FREQ=YEARLY;BYDAY=3SU;BYMONTH=2;UNTIL=20140216T030000Z
TZNAME:-03
TZOFFSETFROM:-0200
TZOFFSETTO:-0300
END:STANDARD
BEGIN:STANDARD
DTSTART:20150222T010000
RRULE:FREQ=YEARLY;BYDAY=4SU;BYMONTH=2;UNTIL=20150222T030000Z
TZNAME:-03
TZOFFSETFROM:-0200
TZOFFSETTO:-0300
END:STANDARD
BEGIN:STANDARD
DTSTART:20160221T010000
RRULE:FREQ=YEARLY;BYDAY=3SU;BYMONTH=2
TZNAME:-03
TZOFFSETFROM:-0200
TZOFFSETTO:-0300
END:STANDARD
BEGIN:DAYLIGHT
DTSTART:20001008T010000
RRULE:FREQ=YEARLY;BYDAY=2SU;BYMONTH=10;UNTIL=20011014T040000Z
TZNAME:-02
TZOFFSETFROM:-0300
TZOFFSETTO:-0200
END:DAYLIGHT
BEGIN:DAYLIGHT
DTSTART:20021103T010000
RRULE:FREQ=YEARLY;BYDAY=1SU;BYMONTH=11;UNTIL=20021103T040000Z
TZNAME:-02
TZOFFSETFROM:-0300
TZOFFSETTO:-0200
END:DAYLIGHT
BEGIN:DAYLIGHT
DTSTART:20031019T010000
RRULE:FREQ=YEARLY;BYDAY=3SU;BYMONTH=10;UNTIL=20031019T040000Z
TZNAME:-02
TZOFFSETFROM:-0300
TZOFFSETTO:-0200
END:DAYLIGHT
BEGIN:DAYLIGHT
DTSTART:20041102T010000
RRULE:FREQ=YEARLY;BYDAY=1TU;BYMONTH=11;UNTIL=20041102T040000Z
TZNAME:-02
TZOFFSETFROM:-0300
TZOFFSETTO:-0200
END:DAYLIGHT
BEGIN:DAYLIGHT
DTSTART:20051016T010000
RRULE:FREQ=YEARLY;BYDAY=3SU;BYMONTH=10;UNTIL=20051016T040000Z
TZNAME:-02
TZOFFSETFROM:-0300
TZOFFSETTO:-0200
END:DAYLIGHT
BEGIN:DAYLIGHT
DTSTART:20061105T010000
RRULE:FREQ=YEARLY;BYDAY=1SU;BYMONTH=11;UNTIL=20061105T040000Z
TZNAME:-02
TZOFFSETFROM:-0300
TZOFFSETTO:-0200
END:DAYLIGHT
BEGIN:DAYLIGHT
DTSTART:20071014T010000
RRULE:FREQ=YEARLY;BYDAY=2SU;BYMONTH=10;UNTIL=20071014T040000Z
TZNAME:-02
TZOFFSETFROM:-0300
TZOFFSETTO:-0200
END:DAYLIGHT
BEGIN:DAYLIGHT
DTSTART:20081019T010000
RRULE:FREQ=YEARLY;BYDAY=3SU;BYMONTH=10;UNTIL=20171015T040000Z
TZNAME:-02
TZOFFSETFROM:-0300
TZOFFSETTO:-0200
END:DAYLIGHT
BEGIN:DAYLIGHT
DTSTART:20181104T010000
RRULE:FREQ=YEARLY;BYDAY=1SU;BYMONTH=11;UNTIL=20181104T040000Z
TZNAME:-02
TZOFFSETFROM:-0300
TZOFFSETTO:-0200
END:DAYLIGHT
END:VTIMEZONE
BEGIN:VEVENT
UID:pretalx-cryptorave-2026-EA333W@cpa.cryptorave.org
DTSTART;TZID=-03:20260509T000000
DTEND;TZID=-03:20260509T005000
DESCRIPTION:São Paulo é atravessada por rios\, mas muitos deles hoje est
 ão invisíveis\, canalizados ou ignorados pela lógica urbana dominante. 
 E se\, em vez de ignorá-los\, a gente passasse a segui-los? A proposta é
  deslocar o olhar e enxergar os corpos hídricos como uma infraestrutura v
 iva\, capaz de orientar a mobilidade de forma mais intuitiva e sensível a
 o território.\nEm vez de depender só de plataformas centralizadas e algo
 ritmos pensados para carros\, exploramos a geografia como interface: um si
 stema aberto\, descentralizado e acessível. A partir da CangaMapa\, mostr
 amos como os caminhos da água revelam rotas mais favoráveis para ciclist
 as\, considerando relevo\, esforço e continuidade.\nTambém trazemos mapa
 s 3D e ferramentas interativas que ajudam a visualizar essa lógica e apro
 ximam diferentes níveis de familiaridade técnica. É nesse contexto que 
 surge o Pedal Hidrográfico\, uma prática coletiva que usa os rios como g
 uia para pedalar pela cidade\, promovendo reconexão com o território e q
 uestionando modelos de navegação.\nA atividade compartilha experiências
 \, levanta reflexões sobre autonomia e abre para troca. No fundo\, é um 
 convite a perceber o que já está dado: talvez o melhor caminho já exist
 a\, só não estamos olhando para ele.
DTSTAMP:20260423T075056Z
LOCATION:Ada Lovelace (Sala Silenciosa no 2º piso)
SUMMARY:Rios invisíveis\, rotas reais: hackeando a mobilidade em São Paul
 o - Pedal Hidrográfico
URL:https://2025.cryptorave.org/cryptorave-2026/talk/EA333W/
END:VEVENT
END:VCALENDAR
