BEGIN:VCALENDAR
VERSION:2.0
PRODID:-//pretalx//cpa.cryptorave.org//cryptorave-2026//speaker//YWLMML
BEGIN:VTIMEZONE
TZID:-03
BEGIN:STANDARD
DTSTART:20000227T010000
RRULE:FREQ=YEARLY;BYDAY=4SU;BYMONTH=2;UNTIL=20000227T030000Z
TZNAME:-03
TZOFFSETFROM:-0200
TZOFFSETTO:-0300
END:STANDARD
BEGIN:STANDARD
DTSTART:20010218T010000
RRULE:FREQ=YEARLY;BYDAY=3SU;BYMONTH=2;UNTIL=20060219T030000Z
TZNAME:-03
TZOFFSETFROM:-0200
TZOFFSETTO:-0300
END:STANDARD
BEGIN:STANDARD
DTSTART:20070225T010000
RRULE:FREQ=YEARLY;BYDAY=4SU;BYMONTH=2;UNTIL=20070225T030000Z
TZNAME:-03
TZOFFSETFROM:-0200
TZOFFSETTO:-0300
END:STANDARD
BEGIN:STANDARD
DTSTART:20080217T010000
RRULE:FREQ=YEARLY;BYDAY=3SU;BYMONTH=2;UNTIL=20110220T030000Z
TZNAME:-03
TZOFFSETFROM:-0200
TZOFFSETTO:-0300
END:STANDARD
BEGIN:STANDARD
DTSTART:20120226T010000
RRULE:FREQ=YEARLY;BYDAY=4SU;BYMONTH=2;UNTIL=20120226T030000Z
TZNAME:-03
TZOFFSETFROM:-0200
TZOFFSETTO:-0300
END:STANDARD
BEGIN:STANDARD
DTSTART:20130217T010000
RRULE:FREQ=YEARLY;BYDAY=3SU;BYMONTH=2;UNTIL=20140216T030000Z
TZNAME:-03
TZOFFSETFROM:-0200
TZOFFSETTO:-0300
END:STANDARD
BEGIN:STANDARD
DTSTART:20150222T010000
RRULE:FREQ=YEARLY;BYDAY=4SU;BYMONTH=2;UNTIL=20150222T030000Z
TZNAME:-03
TZOFFSETFROM:-0200
TZOFFSETTO:-0300
END:STANDARD
BEGIN:STANDARD
DTSTART:20160221T010000
RRULE:FREQ=YEARLY;BYDAY=3SU;BYMONTH=2
TZNAME:-03
TZOFFSETFROM:-0200
TZOFFSETTO:-0300
END:STANDARD
BEGIN:DAYLIGHT
DTSTART:20001008T010000
RRULE:FREQ=YEARLY;BYDAY=2SU;BYMONTH=10;UNTIL=20011014T040000Z
TZNAME:-02
TZOFFSETFROM:-0300
TZOFFSETTO:-0200
END:DAYLIGHT
BEGIN:DAYLIGHT
DTSTART:20021103T010000
RRULE:FREQ=YEARLY;BYDAY=1SU;BYMONTH=11;UNTIL=20021103T040000Z
TZNAME:-02
TZOFFSETFROM:-0300
TZOFFSETTO:-0200
END:DAYLIGHT
BEGIN:DAYLIGHT
DTSTART:20031019T010000
RRULE:FREQ=YEARLY;BYDAY=3SU;BYMONTH=10;UNTIL=20031019T040000Z
TZNAME:-02
TZOFFSETFROM:-0300
TZOFFSETTO:-0200
END:DAYLIGHT
BEGIN:DAYLIGHT
DTSTART:20041102T010000
RRULE:FREQ=YEARLY;BYDAY=1TU;BYMONTH=11;UNTIL=20041102T040000Z
TZNAME:-02
TZOFFSETFROM:-0300
TZOFFSETTO:-0200
END:DAYLIGHT
BEGIN:DAYLIGHT
DTSTART:20051016T010000
RRULE:FREQ=YEARLY;BYDAY=3SU;BYMONTH=10;UNTIL=20051016T040000Z
TZNAME:-02
TZOFFSETFROM:-0300
TZOFFSETTO:-0200
END:DAYLIGHT
BEGIN:DAYLIGHT
DTSTART:20061105T010000
RRULE:FREQ=YEARLY;BYDAY=1SU;BYMONTH=11;UNTIL=20061105T040000Z
TZNAME:-02
TZOFFSETFROM:-0300
TZOFFSETTO:-0200
END:DAYLIGHT
BEGIN:DAYLIGHT
DTSTART:20071014T010000
RRULE:FREQ=YEARLY;BYDAY=2SU;BYMONTH=10;UNTIL=20071014T040000Z
TZNAME:-02
TZOFFSETFROM:-0300
TZOFFSETTO:-0200
END:DAYLIGHT
BEGIN:DAYLIGHT
DTSTART:20081019T010000
RRULE:FREQ=YEARLY;BYDAY=3SU;BYMONTH=10;UNTIL=20171015T040000Z
TZNAME:-02
TZOFFSETFROM:-0300
TZOFFSETTO:-0200
END:DAYLIGHT
BEGIN:DAYLIGHT
DTSTART:20181104T010000
RRULE:FREQ=YEARLY;BYDAY=1SU;BYMONTH=11;UNTIL=20181104T040000Z
TZNAME:-02
TZOFFSETFROM:-0300
TZOFFSETTO:-0200
END:DAYLIGHT
END:VTIMEZONE
BEGIN:VEVENT
UID:pretalx-cryptorave-2026-W739T9@cpa.cryptorave.org
DTSTART;TZID=-03:20260509T100000
DTEND;TZID=-03:20260509T105000
DESCRIPTION:Dados biométricos disponíveis publicamente na internet — fo
 tos\, vídeos\, metadados — são coletáveis via OSINT. Combinados com m
 odelos passíveis de gerar deepfakes\, esses dados podem ser utilizados pa
 ra construir artefatos capazes de contornar sistemas de validação biomé
 trica baseados em classificação de imagens.\nOs riscos não se limitam 
 à eficácia da validação biométrica\, mas também existem na coleta\, 
 processamento e armazenamento de dados pessoais.\nA Lei 15.211/2025 (ECA D
 igital) representa um avanço na responsabilização das Big Techs\, poré
 m\, introduz novas superfícies de ataque à privacidade dos usuários. A 
 proteção baseada em coleta de dados levanta questões técnicas de segur
 ança que a regulamentação ainda não respondeu\, criando um cenário fa
 vorável para oligopólios de identidade digital e de vigilância que pode
 m ameaçar a soberania brasileira.
DTSTAMP:20260423T054813Z
LOCATION:Ada Lovelace (Sala Silenciosa no 2º piso)
SUMMARY:Proibido para menores: Anatomia de um Vetor de Ataque - Alessandra 
 OJ\, Luigi Polidorio
URL:https://2025.cryptorave.org/cryptorave-2026/talk/W739T9/
END:VEVENT
BEGIN:VEVENT
UID:pretalx-cryptorave-2026-BPNLD8@cpa.cryptorave.org
DTSTART;TZID=-03:20260509T120000
DTEND;TZID=-03:20260509T125000
DESCRIPTION:A integridade é um direito constitucional. Quando há tentativ
 a de violação desse direito\, a reação de uma pessoa contra a violênc
 ia pode ser reconhecida como legítima defesa. Aprender defesa pessoal pod
 e contribuir com a autonomia de pessoas em situações de violência.\nEst
 a oficina tem como objetivo ser um espaço aberto para pessoas que querem 
 aprender a se defender sem serem expostas a mais violências. Um espaço q
 ue pode ser potencializado pela diversidade do coletivo e que se opõe a q
 ualquer forma de preconceito.\nAqui aprenderemos a combater agressões fí
 sicas garantindo a integridade individual de cada participante. As técnic
 as praticadas serão instruídas de modo a minimizar desconfortos para pes
 soas vitimizadas pela violência\, com atenção à integridade psicológi
 ca de todos os envolvidos. Afinal\, um bom treinamento não deve limitar 
 — deve ampliar as condições de defesa de cada pessoa após o encerrame
 nto da atividade.\nNão é necessária experiência prévia com defesa pes
 soal\, artes marciais ou atividades físicas e esportivas.
DTSTAMP:20260423T054813Z
LOCATION:Terraço (3º piso)
SUMMARY:Defesa pessoal como direito à integridade - Alessandra OJ\, Lui
URL:https://2025.cryptorave.org/cryptorave-2026/talk/BPNLD8/
END:VEVENT
END:VCALENDAR
