BEGIN:VCALENDAR
VERSION:2.0
PRODID:-//pretalx//cpa.cryptorave.org//cryptorave-2026//speaker//TXRL9E
BEGIN:VTIMEZONE
TZID:-03
BEGIN:STANDARD
DTSTART:20000227T010000
RRULE:FREQ=YEARLY;BYDAY=4SU;BYMONTH=2;UNTIL=20000227T030000Z
TZNAME:-03
TZOFFSETFROM:-0200
TZOFFSETTO:-0300
END:STANDARD
BEGIN:STANDARD
DTSTART:20010218T010000
RRULE:FREQ=YEARLY;BYDAY=3SU;BYMONTH=2;UNTIL=20060219T030000Z
TZNAME:-03
TZOFFSETFROM:-0200
TZOFFSETTO:-0300
END:STANDARD
BEGIN:STANDARD
DTSTART:20070225T010000
RRULE:FREQ=YEARLY;BYDAY=4SU;BYMONTH=2;UNTIL=20070225T030000Z
TZNAME:-03
TZOFFSETFROM:-0200
TZOFFSETTO:-0300
END:STANDARD
BEGIN:STANDARD
DTSTART:20080217T010000
RRULE:FREQ=YEARLY;BYDAY=3SU;BYMONTH=2;UNTIL=20110220T030000Z
TZNAME:-03
TZOFFSETFROM:-0200
TZOFFSETTO:-0300
END:STANDARD
BEGIN:STANDARD
DTSTART:20120226T010000
RRULE:FREQ=YEARLY;BYDAY=4SU;BYMONTH=2;UNTIL=20120226T030000Z
TZNAME:-03
TZOFFSETFROM:-0200
TZOFFSETTO:-0300
END:STANDARD
BEGIN:STANDARD
DTSTART:20130217T010000
RRULE:FREQ=YEARLY;BYDAY=3SU;BYMONTH=2;UNTIL=20140216T030000Z
TZNAME:-03
TZOFFSETFROM:-0200
TZOFFSETTO:-0300
END:STANDARD
BEGIN:STANDARD
DTSTART:20150222T010000
RRULE:FREQ=YEARLY;BYDAY=4SU;BYMONTH=2;UNTIL=20150222T030000Z
TZNAME:-03
TZOFFSETFROM:-0200
TZOFFSETTO:-0300
END:STANDARD
BEGIN:STANDARD
DTSTART:20160221T010000
RRULE:FREQ=YEARLY;BYDAY=3SU;BYMONTH=2
TZNAME:-03
TZOFFSETFROM:-0200
TZOFFSETTO:-0300
END:STANDARD
BEGIN:DAYLIGHT
DTSTART:20001008T010000
RRULE:FREQ=YEARLY;BYDAY=2SU;BYMONTH=10;UNTIL=20011014T040000Z
TZNAME:-02
TZOFFSETFROM:-0300
TZOFFSETTO:-0200
END:DAYLIGHT
BEGIN:DAYLIGHT
DTSTART:20021103T010000
RRULE:FREQ=YEARLY;BYDAY=1SU;BYMONTH=11;UNTIL=20021103T040000Z
TZNAME:-02
TZOFFSETFROM:-0300
TZOFFSETTO:-0200
END:DAYLIGHT
BEGIN:DAYLIGHT
DTSTART:20031019T010000
RRULE:FREQ=YEARLY;BYDAY=3SU;BYMONTH=10;UNTIL=20031019T040000Z
TZNAME:-02
TZOFFSETFROM:-0300
TZOFFSETTO:-0200
END:DAYLIGHT
BEGIN:DAYLIGHT
DTSTART:20041102T010000
RRULE:FREQ=YEARLY;BYDAY=1TU;BYMONTH=11;UNTIL=20041102T040000Z
TZNAME:-02
TZOFFSETFROM:-0300
TZOFFSETTO:-0200
END:DAYLIGHT
BEGIN:DAYLIGHT
DTSTART:20051016T010000
RRULE:FREQ=YEARLY;BYDAY=3SU;BYMONTH=10;UNTIL=20051016T040000Z
TZNAME:-02
TZOFFSETFROM:-0300
TZOFFSETTO:-0200
END:DAYLIGHT
BEGIN:DAYLIGHT
DTSTART:20061105T010000
RRULE:FREQ=YEARLY;BYDAY=1SU;BYMONTH=11;UNTIL=20061105T040000Z
TZNAME:-02
TZOFFSETFROM:-0300
TZOFFSETTO:-0200
END:DAYLIGHT
BEGIN:DAYLIGHT
DTSTART:20071014T010000
RRULE:FREQ=YEARLY;BYDAY=2SU;BYMONTH=10;UNTIL=20071014T040000Z
TZNAME:-02
TZOFFSETFROM:-0300
TZOFFSETTO:-0200
END:DAYLIGHT
BEGIN:DAYLIGHT
DTSTART:20081019T010000
RRULE:FREQ=YEARLY;BYDAY=3SU;BYMONTH=10;UNTIL=20171015T040000Z
TZNAME:-02
TZOFFSETFROM:-0300
TZOFFSETTO:-0200
END:DAYLIGHT
BEGIN:DAYLIGHT
DTSTART:20181104T010000
RRULE:FREQ=YEARLY;BYDAY=1SU;BYMONTH=11;UNTIL=20181104T040000Z
TZNAME:-02
TZOFFSETFROM:-0300
TZOFFSETTO:-0200
END:DAYLIGHT
END:VTIMEZONE
BEGIN:VEVENT
UID:pretalx-cryptorave-2026-UKQA3X@cpa.cryptorave.org
DTSTART;TZID=-03:20260509T130000
DTEND;TZID=-03:20260509T145000
DESCRIPTION:No final de 2025\, documentos internos da Meta foram vazados\, 
 divulgando dados relevantes sobre sua receita\, tal como que anúncios de 
 golpes e produtos ilegais renderam um valor de $16 bilhões à empresa. O 
 ocorrido ilustra como o atual modelo de negócios das plataformas digitais
  prioriza o lucro em detrimento à segurança dos usuários. Ao invés de 
 serem desenvolvidos mecanismos mais apurados em relação à política de 
 anúncios e moderação de conteúdo\, observa-se apenas a adoção de med
 idas ineficientes ou mesmo uma inércia por parte dos provedores. Em paral
 elo\, usuários estão sendo enganados a todo momento\, com destaque para 
 o uso de deepfakes nos casos\, que os deixam mais sofisticados e assim som
 am vítimas com diferentes níveis de letramento digital. Em sua diversida
 de\, há golpes que miram famílias de baixa renda ou programas do governo
  (tal como o Desenrola Brasil)\; há aqueles que se aproveitam do uso de d
 eepfakes\, malwares e marketplace falso ou mesmo casos voltados para enriq
 uecimento rápido e com pessoas famosas. Nessa oficina\, pretendemos explo
 rar o tema descrito em dois momentos: um primeiro expositivo\, de apresent
 ação do tema\, e outro prático\, em que serão abordadas boas práticas
 \, cuidados digitais e maneiras de identificar anúncios fraudulentos.
DTSTAMP:20260423T055715Z
LOCATION:Chelsea Manning (Auditório)
SUMMARY:O golpe tá AI\, cai quem quer - Júlia Caldeira\, Lauro Accioly\, 
 Lucas Lago
URL:https://2025.cryptorave.org/cryptorave-2026/talk/UKQA3X/
END:VEVENT
BEGIN:VEVENT
UID:pretalx-cryptorave-2026-KWHRJZ@cpa.cryptorave.org
DTSTART;TZID=-03:20260509T160000
DTEND;TZID=-03:20260509T165000
DESCRIPTION:A biometria facial é um dado pessoal sensível. Apesar disso\,
  sua solicitação ocorre diariamente em estádios de futebol\, condomíni
 os e mesmo na segurança pública. Esse uso invasivo e constrangedor ocorr
 e sem fiscalização adequada e sem considerar o consentimento dos indiví
 duos. O resultado é um potencial de alto risco\, contemplando possíveis 
 vazamentos de dados e consequências voltadas à discriminação em massa 
 de pessoas já marginalizadas. \n\nEm vista a esse contexto\, o Instituto 
 de Defesa de Consumidores (IDEC) lança a campanha “Quem vê cara\, não
  vê permissão”\, fundamentada em ações já realizadas pelo Instituto
 . Dentre elas: denúncias ao sistema de reconhecimento facial do Gov.br\; 
 a vitória contra a imposição de biometria facial em condomínios e pres
 sões à Agência Nacional de Proteção de Dados (ANPD). A campanha prete
 nde informar e convocar os consumidores para a pauta\, tornando-os cada ve
 z mais conscientes dos riscos diários\, possíveis respostas e atos de re
 sistência. O IDEC intensificará suas ações de luta e incidência polí
 tica\, mobilizando os atores envolvidos e cobrando a responsabilização d
 as empresas violadoras de direitos. \n\nO lançamento da campanha será um
  primeiro momento de apresentação e convite para que as pessoas interess
 adas se envolvam e sigam acompanhando as ações do IDEC.
DTSTAMP:20260423T055715Z
LOCATION:Tula Pilar (piso térreo)
SUMMARY:Lançamento da campanha “Quem vê cara\, não vê permissão” -
  contra o uso de dados biométricos - Júlia Caldeira\, Jose Vitor Pereira
  Neto
URL:https://2025.cryptorave.org/cryptorave-2026/talk/KWHRJZ/
END:VEVENT
END:VCALENDAR
