BEGIN:VCALENDAR
VERSION:2.0
PRODID:-//pretalx//cpa.cryptorave.org//cryptorave-2026//speaker//SMWYMJ
BEGIN:VTIMEZONE
TZID:-03
BEGIN:STANDARD
DTSTART:20000227T010000
RRULE:FREQ=YEARLY;BYDAY=4SU;BYMONTH=2;UNTIL=20000227T030000Z
TZNAME:-03
TZOFFSETFROM:-0200
TZOFFSETTO:-0300
END:STANDARD
BEGIN:STANDARD
DTSTART:20010218T010000
RRULE:FREQ=YEARLY;BYDAY=3SU;BYMONTH=2;UNTIL=20060219T030000Z
TZNAME:-03
TZOFFSETFROM:-0200
TZOFFSETTO:-0300
END:STANDARD
BEGIN:STANDARD
DTSTART:20070225T010000
RRULE:FREQ=YEARLY;BYDAY=4SU;BYMONTH=2;UNTIL=20070225T030000Z
TZNAME:-03
TZOFFSETFROM:-0200
TZOFFSETTO:-0300
END:STANDARD
BEGIN:STANDARD
DTSTART:20080217T010000
RRULE:FREQ=YEARLY;BYDAY=3SU;BYMONTH=2;UNTIL=20110220T030000Z
TZNAME:-03
TZOFFSETFROM:-0200
TZOFFSETTO:-0300
END:STANDARD
BEGIN:STANDARD
DTSTART:20120226T010000
RRULE:FREQ=YEARLY;BYDAY=4SU;BYMONTH=2;UNTIL=20120226T030000Z
TZNAME:-03
TZOFFSETFROM:-0200
TZOFFSETTO:-0300
END:STANDARD
BEGIN:STANDARD
DTSTART:20130217T010000
RRULE:FREQ=YEARLY;BYDAY=3SU;BYMONTH=2;UNTIL=20140216T030000Z
TZNAME:-03
TZOFFSETFROM:-0200
TZOFFSETTO:-0300
END:STANDARD
BEGIN:STANDARD
DTSTART:20150222T010000
RRULE:FREQ=YEARLY;BYDAY=4SU;BYMONTH=2;UNTIL=20150222T030000Z
TZNAME:-03
TZOFFSETFROM:-0200
TZOFFSETTO:-0300
END:STANDARD
BEGIN:STANDARD
DTSTART:20160221T010000
RRULE:FREQ=YEARLY;BYDAY=3SU;BYMONTH=2
TZNAME:-03
TZOFFSETFROM:-0200
TZOFFSETTO:-0300
END:STANDARD
BEGIN:DAYLIGHT
DTSTART:20001008T010000
RRULE:FREQ=YEARLY;BYDAY=2SU;BYMONTH=10;UNTIL=20011014T040000Z
TZNAME:-02
TZOFFSETFROM:-0300
TZOFFSETTO:-0200
END:DAYLIGHT
BEGIN:DAYLIGHT
DTSTART:20021103T010000
RRULE:FREQ=YEARLY;BYDAY=1SU;BYMONTH=11;UNTIL=20021103T040000Z
TZNAME:-02
TZOFFSETFROM:-0300
TZOFFSETTO:-0200
END:DAYLIGHT
BEGIN:DAYLIGHT
DTSTART:20031019T010000
RRULE:FREQ=YEARLY;BYDAY=3SU;BYMONTH=10;UNTIL=20031019T040000Z
TZNAME:-02
TZOFFSETFROM:-0300
TZOFFSETTO:-0200
END:DAYLIGHT
BEGIN:DAYLIGHT
DTSTART:20041102T010000
RRULE:FREQ=YEARLY;BYDAY=1TU;BYMONTH=11;UNTIL=20041102T040000Z
TZNAME:-02
TZOFFSETFROM:-0300
TZOFFSETTO:-0200
END:DAYLIGHT
BEGIN:DAYLIGHT
DTSTART:20051016T010000
RRULE:FREQ=YEARLY;BYDAY=3SU;BYMONTH=10;UNTIL=20051016T040000Z
TZNAME:-02
TZOFFSETFROM:-0300
TZOFFSETTO:-0200
END:DAYLIGHT
BEGIN:DAYLIGHT
DTSTART:20061105T010000
RRULE:FREQ=YEARLY;BYDAY=1SU;BYMONTH=11;UNTIL=20061105T040000Z
TZNAME:-02
TZOFFSETFROM:-0300
TZOFFSETTO:-0200
END:DAYLIGHT
BEGIN:DAYLIGHT
DTSTART:20071014T010000
RRULE:FREQ=YEARLY;BYDAY=2SU;BYMONTH=10;UNTIL=20071014T040000Z
TZNAME:-02
TZOFFSETFROM:-0300
TZOFFSETTO:-0200
END:DAYLIGHT
BEGIN:DAYLIGHT
DTSTART:20081019T010000
RRULE:FREQ=YEARLY;BYDAY=3SU;BYMONTH=10;UNTIL=20171015T040000Z
TZNAME:-02
TZOFFSETFROM:-0300
TZOFFSETTO:-0200
END:DAYLIGHT
BEGIN:DAYLIGHT
DTSTART:20181104T010000
RRULE:FREQ=YEARLY;BYDAY=1SU;BYMONTH=11;UNTIL=20181104T040000Z
TZNAME:-02
TZOFFSETFROM:-0300
TZOFFSETTO:-0200
END:DAYLIGHT
END:VTIMEZONE
BEGIN:VEVENT
UID:pretalx-cryptorave-2026-DARYUW@cpa.cryptorave.org
DTSTART;TZID=-03:20260509T030000
DTEND;TZID=-03:20260509T045000
DESCRIPTION:Arquivos são a maneira como informações são agrupadas no mu
 ndo da computação. Essas informações podem ser dados (arquivos de text
 o\, documentos PDF\, fotos\, etc) ou programas (arquivos executáveis\, bi
 bliotecas\, drivers\, etc). Eles constituem a base da computação tradici
 onal e móvel (smartphones). No entanto\, além de dados e instruções de
  programas\, a maioria dos tipos de arquivos contêm **metadados**\, norma
 lmente ocultados da nossa visão\, mas que podem conter informações sens
 íveis sobre quem gerou o arquivo\, quanto e em que condições e ambiente
  computacional. Nesta oficina estudaremos como estes metadados são estrut
 urados\, como visualizá-los\, removê-los e alterá-los se preciso. No fi
 nal\, você estará apto para responder as seguintes perguntas:\n\n- Sobre
  sua privacidade: o que os arquivos que compartilho estão levando de info
 rmações além das que eu ponho nele?\n- Sobre sua segurança: o que os a
 rquivos eu baixo trazem de informação além das que eu espero que ele te
 nha?\n\nIsso será feito de forma prática\, com o uso de editores hexadec
 imais e ferramentas de gerenciamento de metadados. Os conceitos para uso d
 e tal ferramental serão explicados previamente.
DTSTAMP:20260423T055848Z
LOCATION:Ian Murdock (Sala Multiuso no térreo)
SUMMARY:Raio-X em arquivos: como inspecionar dados e programas - Fernando M
 ercês
URL:https://2025.cryptorave.org/cryptorave-2026/talk/DARYUW/
END:VEVENT
END:VCALENDAR
