BEGIN:VCALENDAR
VERSION:2.0
PRODID:-//pretalx//cpa.cryptorave.org//cryptorave-2026//speaker//RR9RCM
BEGIN:VTIMEZONE
TZID:-03
BEGIN:STANDARD
DTSTART:20000227T010000
RRULE:FREQ=YEARLY;BYDAY=4SU;BYMONTH=2;UNTIL=20000227T030000Z
TZNAME:-03
TZOFFSETFROM:-0200
TZOFFSETTO:-0300
END:STANDARD
BEGIN:STANDARD
DTSTART:20010218T010000
RRULE:FREQ=YEARLY;BYDAY=3SU;BYMONTH=2;UNTIL=20060219T030000Z
TZNAME:-03
TZOFFSETFROM:-0200
TZOFFSETTO:-0300
END:STANDARD
BEGIN:STANDARD
DTSTART:20070225T010000
RRULE:FREQ=YEARLY;BYDAY=4SU;BYMONTH=2;UNTIL=20070225T030000Z
TZNAME:-03
TZOFFSETFROM:-0200
TZOFFSETTO:-0300
END:STANDARD
BEGIN:STANDARD
DTSTART:20080217T010000
RRULE:FREQ=YEARLY;BYDAY=3SU;BYMONTH=2;UNTIL=20110220T030000Z
TZNAME:-03
TZOFFSETFROM:-0200
TZOFFSETTO:-0300
END:STANDARD
BEGIN:STANDARD
DTSTART:20120226T010000
RRULE:FREQ=YEARLY;BYDAY=4SU;BYMONTH=2;UNTIL=20120226T030000Z
TZNAME:-03
TZOFFSETFROM:-0200
TZOFFSETTO:-0300
END:STANDARD
BEGIN:STANDARD
DTSTART:20130217T010000
RRULE:FREQ=YEARLY;BYDAY=3SU;BYMONTH=2;UNTIL=20140216T030000Z
TZNAME:-03
TZOFFSETFROM:-0200
TZOFFSETTO:-0300
END:STANDARD
BEGIN:STANDARD
DTSTART:20150222T010000
RRULE:FREQ=YEARLY;BYDAY=4SU;BYMONTH=2;UNTIL=20150222T030000Z
TZNAME:-03
TZOFFSETFROM:-0200
TZOFFSETTO:-0300
END:STANDARD
BEGIN:STANDARD
DTSTART:20160221T010000
RRULE:FREQ=YEARLY;BYDAY=3SU;BYMONTH=2
TZNAME:-03
TZOFFSETFROM:-0200
TZOFFSETTO:-0300
END:STANDARD
BEGIN:DAYLIGHT
DTSTART:20001008T010000
RRULE:FREQ=YEARLY;BYDAY=2SU;BYMONTH=10;UNTIL=20011014T040000Z
TZNAME:-02
TZOFFSETFROM:-0300
TZOFFSETTO:-0200
END:DAYLIGHT
BEGIN:DAYLIGHT
DTSTART:20021103T010000
RRULE:FREQ=YEARLY;BYDAY=1SU;BYMONTH=11;UNTIL=20021103T040000Z
TZNAME:-02
TZOFFSETFROM:-0300
TZOFFSETTO:-0200
END:DAYLIGHT
BEGIN:DAYLIGHT
DTSTART:20031019T010000
RRULE:FREQ=YEARLY;BYDAY=3SU;BYMONTH=10;UNTIL=20031019T040000Z
TZNAME:-02
TZOFFSETFROM:-0300
TZOFFSETTO:-0200
END:DAYLIGHT
BEGIN:DAYLIGHT
DTSTART:20041102T010000
RRULE:FREQ=YEARLY;BYDAY=1TU;BYMONTH=11;UNTIL=20041102T040000Z
TZNAME:-02
TZOFFSETFROM:-0300
TZOFFSETTO:-0200
END:DAYLIGHT
BEGIN:DAYLIGHT
DTSTART:20051016T010000
RRULE:FREQ=YEARLY;BYDAY=3SU;BYMONTH=10;UNTIL=20051016T040000Z
TZNAME:-02
TZOFFSETFROM:-0300
TZOFFSETTO:-0200
END:DAYLIGHT
BEGIN:DAYLIGHT
DTSTART:20061105T010000
RRULE:FREQ=YEARLY;BYDAY=1SU;BYMONTH=11;UNTIL=20061105T040000Z
TZNAME:-02
TZOFFSETFROM:-0300
TZOFFSETTO:-0200
END:DAYLIGHT
BEGIN:DAYLIGHT
DTSTART:20071014T010000
RRULE:FREQ=YEARLY;BYDAY=2SU;BYMONTH=10;UNTIL=20071014T040000Z
TZNAME:-02
TZOFFSETFROM:-0300
TZOFFSETTO:-0200
END:DAYLIGHT
BEGIN:DAYLIGHT
DTSTART:20081019T010000
RRULE:FREQ=YEARLY;BYDAY=3SU;BYMONTH=10;UNTIL=20171015T040000Z
TZNAME:-02
TZOFFSETFROM:-0300
TZOFFSETTO:-0200
END:DAYLIGHT
BEGIN:DAYLIGHT
DTSTART:20181104T010000
RRULE:FREQ=YEARLY;BYDAY=1SU;BYMONTH=11;UNTIL=20181104T040000Z
TZNAME:-02
TZOFFSETFROM:-0300
TZOFFSETTO:-0200
END:DAYLIGHT
END:VTIMEZONE
BEGIN:VEVENT
UID:pretalx-cryptorave-2026-97FXKZ@cpa.cryptorave.org
DTSTART;TZID=-03:20260508T200000
DTEND;TZID=-03:20260508T205000
DESCRIPTION:Cian Barbosa (Unifesp/UFRJ\, colunista Opera Mundi)\, Deivison 
 Faustino (USP\, coautor de Colonialismo Digital) e Walter Lippold (UFRGS\,
  coautor de Colonialismo Digital).\nEssa mesa aborda três aspectos intrig
 antes das ciberguerras atuais: 1.⁠ ⁠a infraestrutura digital como exte
 nsão do complexo industrial militar  2.⁠ ⁠⁠a mudança de paradigma 
 dos sistemas autônomos de armas (AWS) para a sistemas totalmente autônom
 os de armas (FAWS) e 3.⁠ ⁠⁠a dialética cibernética-cinética das n
 ovas tecnologias de morte. Os casos recentes de emprego de armas autônoma
 s na indústria da morte\, reflete uma tendente dissolução das fronteira
 s entre civil e militar\, cinético e cibernético\, de tal forma que pode
 mos considerar todo o relevo digital como um campo onde ambas esferas coex
 istem simultaneamente. Esses sistemas são desenvolvidos para dinamizar e 
 acelerar a chamada kill chain\, literalmente a cadeia de produção da mor
 te em organização industrial-militar\, articulando o processo em escalas
 \, do local ao global. Eles integram Big Data com informações de perfis 
 pessoais nas redes\, até a triangulação de dados geo-espaciais\, para s
 elecionar suspeitos e determinar execuções. Nessa integração\, utiliza
 m-se ativamente as I.A.s mais populares\, como o ChatGPT\, da empresa Open
 AI\, que firmou um contrato de 200 milhões de dólares com o governo Trum
 p.
DTSTAMP:20260423T055650Z
LOCATION:Chelsea Manning (Auditório)
SUMMARY:A nova tokenização da velha guerra: armas autônomas e ciberguerr
 a - Walter Lippold\, Deivison Faustino\, Cian Barbosa
URL:https://2025.cryptorave.org/cryptorave-2026/talk/97FXKZ/
END:VEVENT
BEGIN:VEVENT
UID:pretalx-cryptorave-2026-7337LQ@cpa.cryptorave.org
DTSTART;TZID=-03:20260508T210000
DTEND;TZID=-03:20260508T225000
DESCRIPTION:O campo da saúde vem sendo profundamente transformado pelas Te
 cnologias de Informação e Comunicação (TICs). A combinação inédita 
 de uma ampla disponibilidade de dados sobre a vida e a experiência humana
 \, associada ao aumento no poder computacional acessível e reprodutível\
 , tem permitido o aperfeiçoamento exponencial das práticas de diagnósti
 co\, gestão e análise de dados e\, ao mesmo tempo\, desafia noções já
  consolidadas de cuidado\, bem-estar e saúde. \n\nNo entanto\, há uma cr
 escente preocupação e evidência de que essas tecnologias podem incorpor
 ar e amplificar vieses sociais diversos baseados em gênero\, raça\, lín
 gua\, território\, etc. Ao mesmo tempo\, a plataformização da saúde ab
 re precedentes para novas formas de exploração do trabalho\, expropriaç
 ão de biodados\, e a datificação comercializada da saúde física e men
 tal.  O conceito de colonialismo digital problematiza a  dependência tecn
 ológica de países  em desenvolvimento às Big Techs. \n\nEssa mesa busca
  debater as contradições sociais e econômicas e geopolíticas próprias
  à chamada “digitalização da saúde”
DTSTAMP:20260423T055650Z
LOCATION:Terraço (3º piso)
SUMMARY:Por uma crítica à digitalização da saúde: geopolítica\, poder
  e cuidado em tempos de colonialismo digital - Deivison Faustino\, Marcelo
  Fornazin\, Letícia Gabrielle Souza
URL:https://2025.cryptorave.org/cryptorave-2026/talk/7337LQ/
END:VEVENT
END:VCALENDAR
