BEGIN:VCALENDAR
VERSION:2.0
PRODID:-//pretalx//cpa.cryptorave.org//cryptorave-2026//speaker//NB8TEJ
BEGIN:VTIMEZONE
TZID:-03
BEGIN:STANDARD
DTSTART:20000227T010000
RRULE:FREQ=YEARLY;BYDAY=4SU;BYMONTH=2;UNTIL=20000227T030000Z
TZNAME:-03
TZOFFSETFROM:-0200
TZOFFSETTO:-0300
END:STANDARD
BEGIN:STANDARD
DTSTART:20010218T010000
RRULE:FREQ=YEARLY;BYDAY=3SU;BYMONTH=2;UNTIL=20060219T030000Z
TZNAME:-03
TZOFFSETFROM:-0200
TZOFFSETTO:-0300
END:STANDARD
BEGIN:STANDARD
DTSTART:20070225T010000
RRULE:FREQ=YEARLY;BYDAY=4SU;BYMONTH=2;UNTIL=20070225T030000Z
TZNAME:-03
TZOFFSETFROM:-0200
TZOFFSETTO:-0300
END:STANDARD
BEGIN:STANDARD
DTSTART:20080217T010000
RRULE:FREQ=YEARLY;BYDAY=3SU;BYMONTH=2;UNTIL=20110220T030000Z
TZNAME:-03
TZOFFSETFROM:-0200
TZOFFSETTO:-0300
END:STANDARD
BEGIN:STANDARD
DTSTART:20120226T010000
RRULE:FREQ=YEARLY;BYDAY=4SU;BYMONTH=2;UNTIL=20120226T030000Z
TZNAME:-03
TZOFFSETFROM:-0200
TZOFFSETTO:-0300
END:STANDARD
BEGIN:STANDARD
DTSTART:20130217T010000
RRULE:FREQ=YEARLY;BYDAY=3SU;BYMONTH=2;UNTIL=20140216T030000Z
TZNAME:-03
TZOFFSETFROM:-0200
TZOFFSETTO:-0300
END:STANDARD
BEGIN:STANDARD
DTSTART:20150222T010000
RRULE:FREQ=YEARLY;BYDAY=4SU;BYMONTH=2;UNTIL=20150222T030000Z
TZNAME:-03
TZOFFSETFROM:-0200
TZOFFSETTO:-0300
END:STANDARD
BEGIN:STANDARD
DTSTART:20160221T010000
RRULE:FREQ=YEARLY;BYDAY=3SU;BYMONTH=2
TZNAME:-03
TZOFFSETFROM:-0200
TZOFFSETTO:-0300
END:STANDARD
BEGIN:DAYLIGHT
DTSTART:20001008T010000
RRULE:FREQ=YEARLY;BYDAY=2SU;BYMONTH=10;UNTIL=20011014T040000Z
TZNAME:-02
TZOFFSETFROM:-0300
TZOFFSETTO:-0200
END:DAYLIGHT
BEGIN:DAYLIGHT
DTSTART:20021103T010000
RRULE:FREQ=YEARLY;BYDAY=1SU;BYMONTH=11;UNTIL=20021103T040000Z
TZNAME:-02
TZOFFSETFROM:-0300
TZOFFSETTO:-0200
END:DAYLIGHT
BEGIN:DAYLIGHT
DTSTART:20031019T010000
RRULE:FREQ=YEARLY;BYDAY=3SU;BYMONTH=10;UNTIL=20031019T040000Z
TZNAME:-02
TZOFFSETFROM:-0300
TZOFFSETTO:-0200
END:DAYLIGHT
BEGIN:DAYLIGHT
DTSTART:20041102T010000
RRULE:FREQ=YEARLY;BYDAY=1TU;BYMONTH=11;UNTIL=20041102T040000Z
TZNAME:-02
TZOFFSETFROM:-0300
TZOFFSETTO:-0200
END:DAYLIGHT
BEGIN:DAYLIGHT
DTSTART:20051016T010000
RRULE:FREQ=YEARLY;BYDAY=3SU;BYMONTH=10;UNTIL=20051016T040000Z
TZNAME:-02
TZOFFSETFROM:-0300
TZOFFSETTO:-0200
END:DAYLIGHT
BEGIN:DAYLIGHT
DTSTART:20061105T010000
RRULE:FREQ=YEARLY;BYDAY=1SU;BYMONTH=11;UNTIL=20061105T040000Z
TZNAME:-02
TZOFFSETFROM:-0300
TZOFFSETTO:-0200
END:DAYLIGHT
BEGIN:DAYLIGHT
DTSTART:20071014T010000
RRULE:FREQ=YEARLY;BYDAY=2SU;BYMONTH=10;UNTIL=20071014T040000Z
TZNAME:-02
TZOFFSETFROM:-0300
TZOFFSETTO:-0200
END:DAYLIGHT
BEGIN:DAYLIGHT
DTSTART:20081019T010000
RRULE:FREQ=YEARLY;BYDAY=3SU;BYMONTH=10;UNTIL=20171015T040000Z
TZNAME:-02
TZOFFSETFROM:-0300
TZOFFSETTO:-0200
END:DAYLIGHT
BEGIN:DAYLIGHT
DTSTART:20181104T010000
RRULE:FREQ=YEARLY;BYDAY=1SU;BYMONTH=11;UNTIL=20181104T040000Z
TZNAME:-02
TZOFFSETFROM:-0300
TZOFFSETTO:-0200
END:DAYLIGHT
END:VTIMEZONE
BEGIN:VEVENT
UID:pretalx-cryptorave-2026-V737GG@cpa.cryptorave.org
DTSTART;TZID=-03:20260508T220000
DTEND;TZID=-03:20260508T225000
DESCRIPTION:Taller para crear redes transhackfeministas latinoamericanas. A
  partir de la experiencia del ETDD\, que nació de la necesidad urgente de
  conectar luchas de organizaciones y activistas independientes de Centroam
 érica\, la Zona Andina y el Cono Sur\, compartiremos una guía paso a pas
 o para tejer\, desde lo local hacia lo regional\, una articulación transh
 ackfeminista que desafíe las fronteras geográficas. \n\nSomos un espacio
  autoconvocado\, horizontal y creativo\, donde la tecnología es territori
 o de disputa y cuidados. Nuestra historia juntes ha demostrado que la resi
 stencia digital requiere estructuras comunitarias sólidas. Hemos mapeado 
 contextos regionales diversos\, consensuado acuerdos sobre prácticas cole
 ctivas y estamos en construcción de futuros colectivos para fortalecernos
 . \n\nEste taller invita a otras redes a organizarse\, encontrarse y const
 ruir infraestructuras propias de resistencia. En un contexto de vigilancia
  estatal y corporativa creciente\, la privacidad y la seguridad son derech
 os humanos fundamentales. Nuestra propuesta integra género\, sexualidad\,
  raza y clase como ejes centrales del análisis tecnológico. No buscamos 
 replicar modelos jerárquicos\, sino fomentar la autonomía tecnológica y
  la solidaridad regional.
DTSTAMP:20260423T055714Z
LOCATION:Ada Lovelace (Sala Silenciosa no 2º piso)
SUMMARY:Guía para crear una Red Transhackfeminista Latinoamericana - Nicol
 eM\, Kime\, solardata
URL:https://2025.cryptorave.org/cryptorave-2026/talk/V737GG/
END:VEVENT
BEGIN:VEVENT
UID:pretalx-cryptorave-2026-XDRSDG@cpa.cryptorave.org
DTSTART;TZID=-03:20260509T090000
DTEND;TZID=-03:20260509T095000
DESCRIPTION:Essa proposta apresenta os Sistemas Participativos de Garantia 
 (SPG) como tecnologias sociopolíticas chave para fortalecer a soberania a
 limentar na América Latina. Através das experiências de tecnologistas l
 atinoamericanas (brasileira e argentinas)\, exploramos o histórico de nas
 cimento dos SPGs\, e sua potência como ferramentas com alta capacidade de
  replicabilidade e adaptação a distintos territórios. Essas ferramentas
  emergem desde articulações comunitárias\, e desafiam modelos centraliz
 ados de certificação e validação. Os SPGs não apenas garantem prátic
 as agroecológicas\, mas também configuram infraestruturas coleticas base
 adas na confiança e no cuidado.\n\nColocado o contexto dessas organizaç
 ões sociais\, discutimos o desenvolvimento de um sistema de gestão livre
  e de código aberto (https://speco.tekopora.top)\, que está em vias de s
 er consolidado como um recurso comum para a comunidade de SPGs brasileiros
 . Esse sistema foi co-construído pelo maior e pioneiro SPG da América La
 tina\, Rede Ecovida\, num processo contínuo que já leva mais de três an
 os. Nesse sentido\, esta sessão traz a reflexão sobre o papel do cuidado
  no desenvolvimento participativo de tecnologias digitais para a agroecolo
 gia.\n\nNum contexto de policrise e disputa pelos sentidos\, os SPGs se co
 locam como uma solução tecnopolítica comunitátia que abre horizontes p
 ara imaginar e construir futuros coletivos mais justos e solidários.
DTSTAMP:20260423T055714Z
LOCATION:Edward Snowden (Auditório da Hemeroteca)
SUMMARY:Certificação Orgânica Participativa e Agroecologia no Territóri
 o Digital - nádia\, NicoleM
URL:https://2025.cryptorave.org/cryptorave-2026/talk/XDRSDG/
END:VEVENT
END:VCALENDAR
