BEGIN:VCALENDAR
VERSION:2.0
PRODID:-//pretalx//cpa.cryptorave.org//cryptorave-2026//speaker//CHN9CX
BEGIN:VTIMEZONE
TZID:-03
BEGIN:STANDARD
DTSTART:20000227T010000
RRULE:FREQ=YEARLY;BYDAY=4SU;BYMONTH=2;UNTIL=20000227T030000Z
TZNAME:-03
TZOFFSETFROM:-0200
TZOFFSETTO:-0300
END:STANDARD
BEGIN:STANDARD
DTSTART:20010218T010000
RRULE:FREQ=YEARLY;BYDAY=3SU;BYMONTH=2;UNTIL=20060219T030000Z
TZNAME:-03
TZOFFSETFROM:-0200
TZOFFSETTO:-0300
END:STANDARD
BEGIN:STANDARD
DTSTART:20070225T010000
RRULE:FREQ=YEARLY;BYDAY=4SU;BYMONTH=2;UNTIL=20070225T030000Z
TZNAME:-03
TZOFFSETFROM:-0200
TZOFFSETTO:-0300
END:STANDARD
BEGIN:STANDARD
DTSTART:20080217T010000
RRULE:FREQ=YEARLY;BYDAY=3SU;BYMONTH=2;UNTIL=20110220T030000Z
TZNAME:-03
TZOFFSETFROM:-0200
TZOFFSETTO:-0300
END:STANDARD
BEGIN:STANDARD
DTSTART:20120226T010000
RRULE:FREQ=YEARLY;BYDAY=4SU;BYMONTH=2;UNTIL=20120226T030000Z
TZNAME:-03
TZOFFSETFROM:-0200
TZOFFSETTO:-0300
END:STANDARD
BEGIN:STANDARD
DTSTART:20130217T010000
RRULE:FREQ=YEARLY;BYDAY=3SU;BYMONTH=2;UNTIL=20140216T030000Z
TZNAME:-03
TZOFFSETFROM:-0200
TZOFFSETTO:-0300
END:STANDARD
BEGIN:STANDARD
DTSTART:20150222T010000
RRULE:FREQ=YEARLY;BYDAY=4SU;BYMONTH=2;UNTIL=20150222T030000Z
TZNAME:-03
TZOFFSETFROM:-0200
TZOFFSETTO:-0300
END:STANDARD
BEGIN:STANDARD
DTSTART:20160221T010000
RRULE:FREQ=YEARLY;BYDAY=3SU;BYMONTH=2
TZNAME:-03
TZOFFSETFROM:-0200
TZOFFSETTO:-0300
END:STANDARD
BEGIN:DAYLIGHT
DTSTART:20001008T010000
RRULE:FREQ=YEARLY;BYDAY=2SU;BYMONTH=10;UNTIL=20011014T040000Z
TZNAME:-02
TZOFFSETFROM:-0300
TZOFFSETTO:-0200
END:DAYLIGHT
BEGIN:DAYLIGHT
DTSTART:20021103T010000
RRULE:FREQ=YEARLY;BYDAY=1SU;BYMONTH=11;UNTIL=20021103T040000Z
TZNAME:-02
TZOFFSETFROM:-0300
TZOFFSETTO:-0200
END:DAYLIGHT
BEGIN:DAYLIGHT
DTSTART:20031019T010000
RRULE:FREQ=YEARLY;BYDAY=3SU;BYMONTH=10;UNTIL=20031019T040000Z
TZNAME:-02
TZOFFSETFROM:-0300
TZOFFSETTO:-0200
END:DAYLIGHT
BEGIN:DAYLIGHT
DTSTART:20041102T010000
RRULE:FREQ=YEARLY;BYDAY=1TU;BYMONTH=11;UNTIL=20041102T040000Z
TZNAME:-02
TZOFFSETFROM:-0300
TZOFFSETTO:-0200
END:DAYLIGHT
BEGIN:DAYLIGHT
DTSTART:20051016T010000
RRULE:FREQ=YEARLY;BYDAY=3SU;BYMONTH=10;UNTIL=20051016T040000Z
TZNAME:-02
TZOFFSETFROM:-0300
TZOFFSETTO:-0200
END:DAYLIGHT
BEGIN:DAYLIGHT
DTSTART:20061105T010000
RRULE:FREQ=YEARLY;BYDAY=1SU;BYMONTH=11;UNTIL=20061105T040000Z
TZNAME:-02
TZOFFSETFROM:-0300
TZOFFSETTO:-0200
END:DAYLIGHT
BEGIN:DAYLIGHT
DTSTART:20071014T010000
RRULE:FREQ=YEARLY;BYDAY=2SU;BYMONTH=10;UNTIL=20071014T040000Z
TZNAME:-02
TZOFFSETFROM:-0300
TZOFFSETTO:-0200
END:DAYLIGHT
BEGIN:DAYLIGHT
DTSTART:20081019T010000
RRULE:FREQ=YEARLY;BYDAY=3SU;BYMONTH=10;UNTIL=20171015T040000Z
TZNAME:-02
TZOFFSETFROM:-0300
TZOFFSETTO:-0200
END:DAYLIGHT
BEGIN:DAYLIGHT
DTSTART:20181104T010000
RRULE:FREQ=YEARLY;BYDAY=1SU;BYMONTH=11;UNTIL=20181104T040000Z
TZNAME:-02
TZOFFSETFROM:-0300
TZOFFSETTO:-0200
END:DAYLIGHT
END:VTIMEZONE
BEGIN:VEVENT
UID:pretalx-cryptorave-2026-AKHFDH@cpa.cryptorave.org
DTSTART;TZID=-03:20260508T230000
DTEND;TZID=-03:20260508T235000
DESCRIPTION:Capture The Flag (CTF) é uma das formas mais práticas e acess
 íveis de aprender segurança da informação. Em vez de apenas estudar te
 oria\, os participantes enfrentam desafios reais que exigem investigação
 \, criatividade e pensamento crítico para encontrar vulnerabilidades e de
 scobrir a “flag”. Nesta palestra\, apresento minha jornada desde os pr
 imeiros contatos com CTFs até o desenvolvimento de uma mentalidade orient
 ada à resolução de problemas em segurança ofensiva. Serão explicados 
 os principais tipos de desafios encontrados em competições de CTF\, incl
 uindo web\, criptografia\, engenharia reversa\, exploração binária e an
 álise forense. Também serão apresentadas plataformas populares onde qua
 lquer pessoa pode começar\, como picoCTF\, Hack The Box\, TryHackMe e CTF
 time. Durante a apresentação\, será demonstrado o processo de resoluç
 ão de um desafio real de CTF\, mostrando como analisar o problema\, explo
 rar pistas e chegar à flag. Mais do que uma competição\, os CTFs funcio
 nam como um laboratório seguro para experimentar técnicas de hacking\, d
 esenvolver habilidades práticas e aprender segurança de forma divertida 
 e desafiadora.
DTSTAMP:20260423T055816Z
LOCATION:Ian Murdock (Sala Multiuso no térreo)
SUMMARY:De iniciante a caçador de flags: como os CTFs transformaram minha 
 forma de pensar segurança - mathecarv
URL:https://2025.cryptorave.org/cryptorave-2026/talk/AKHFDH/
END:VEVENT
END:VCALENDAR
